BEGIN:VCALENDAR
VERSION:2.0
PRODID:-//Squarespace Inc/Squarespace 6//v6//EN
BEGIN:VEVENT
UID:602f00b2e0bbd22dd02a0298@squarespace.com
DTSTAMP:20210223T082728Z
DTSTART:20210319T000000Z
DTEND:20210319T010000Z
SUMMARY:THE MOTHER HOOD
END:VEVENT
END:VCALENDAR
