BEGIN:VCALENDAR
VERSION:2.0
PRODID:-//Squarespace Inc/Squarespace 6//v6//EN
BEGIN:VEVENT
UID:6033709a89cb7558728229d7@squarespace.com
DTSTAMP:20210223T082718Z
DTSTART:20210430T010000Z
DTEND:20210430T020000Z
SUMMARY:THE MOTHER HOOD
END:VEVENT
END:VCALENDAR
