BEGIN:VCALENDAR
VERSION:2.0
PRODID:-//Squarespace Inc/Squarespace 6//v6//EN
BEGIN:VEVENT
UID:60337101fbafeb748e257c5a@squarespace.com
DTSTAMP:20210223T083007Z
DTSTART:20210625T010000Z
DTEND:20210625T020000Z
SUMMARY:THE MOTHER HOOD
END:VEVENT
END:VCALENDAR
