BEGIN:VCALENDAR
VERSION:2.0
PRODID:-//Squarespace Inc/Squarespace 6//v6//EN
BEGIN:VEVENT
UID:5f8e1141512dbf64ca5ca7a3@squarespace.com
DTSTAMP:20201019T222136Z
DTSTART:20201025T223000Z
DTEND:20201025T233000Z
SUMMARY:Tea &amp\; Tummy Time
END:VEVENT
END:VCALENDAR
