BEGIN:VCALENDAR
VERSION:2.0
PRODID:-//Squarespace Inc/Squarespace 6//v6//EN
BEGIN:VEVENT
UID:5f8e1db6f11ecf3c58d1d974@squarespace.com
DTSTAMP:20201019T231441Z
DTSTART:20201101T223000Z
DTEND:20201101T233000Z
SUMMARY:Tea &amp\; Tummy Time
END:VEVENT
END:VCALENDAR
