BEGIN:VCALENDAR
VERSION:2.0
PRODID:-//Squarespace Inc/Squarespace 6//v6//EN
BEGIN:VEVENT
UID:5f8e1dea7c83c57c9aba044f@squarespace.com
DTSTAMP:20201019T231519Z
DTSTART:20201108T223000Z
DTEND:20201108T233000Z
SUMMARY:Tea &amp\; Tummy Time
END:VEVENT
END:VCALENDAR
