BEGIN:VCALENDAR
VERSION:2.0
PRODID:-//Squarespace Inc/Squarespace 6//v6//EN
BEGIN:VEVENT
UID:5f8e1e0d2eb7ad5e5ca4febe@squarespace.com
DTSTAMP:20201019T231552Z
DTSTART:20201115T223000Z
DTEND:20201115T233000Z
SUMMARY:Tea &amp\; Tummy Time 
END:VEVENT
END:VCALENDAR
