BEGIN:VCALENDAR
VERSION:2.0
PRODID:-//Squarespace Inc/Squarespace 6//v6//EN
BEGIN:VEVENT
UID:5f8e6515d002dc32f3baa889@squarespace.com
DTSTAMP:20201113T042721Z
DTSTART:20210117T023000Z
DTEND:20210117T043000Z
SUMMARY:HATCH - Prenatal Group
END:VEVENT
END:VCALENDAR
