BEGIN:VCALENDAR
VERSION:2.0
PRODID:-//Squarespace Inc/Squarespace 6//v6//EN
BEGIN:VEVENT
UID:601277e1831be926cb1e7b0f@squarespace.com
DTSTAMP:20210225T224227Z
DTSTART:20210321T033000Z
DTEND:20210321T053000Z
SUMMARY:HATCH - Prenatal Group
END:VEVENT
END:VCALENDAR
