BEGIN:VCALENDAR
VERSION:2.0
PRODID:-//Squarespace Inc/Squarespace 6//v6//EN
BEGIN:VEVENT
UID:60127846c2ce951f7715ea0a@squarespace.com
DTSTAMP:20210128T084344Z
DTSTART:20210502T043000Z
DTEND:20210502T063000Z
SUMMARY:HATCH - Prenatal Group 
END:VEVENT
END:VCALENDAR
