BEGIN:VCALENDAR
VERSION:2.0
PRODID:-//Squarespace Inc/Squarespace 6//v6//EN
BEGIN:VEVENT
UID:6012787fdf5cf964739721d2@squarespace.com
DTSTAMP:20210128T084314Z
DTSTART:20210627T043000Z
DTEND:20210627T063000Z
SUMMARY:HATCH - Prenatal Group
END:VEVENT
END:VCALENDAR
