BEGIN:VCALENDAR
VERSION:2.0
PRODID:-//Squarespace Inc/Squarespace 6//v6//EN
BEGIN:VEVENT
UID:5f8e23c10d07d02227e24003@squarespace.com
DTSTAMP:20201020T042220Z
DTSTART:20201022T083000Z
DTEND:20201022T110000Z
SUMMARY:Hypnobirthing 
END:VEVENT
END:VCALENDAR
