BEGIN:VCALENDAR
VERSION:2.0
PRODID:-//Squarespace Inc/Squarespace 6//v6//EN
BEGIN:VEVENT
UID:5f8e240e6e64ed64cf4ecb4d@squarespace.com
DTSTAMP:20201112T011931Z
DTSTART:20201121T083000Z
DTEND:20201121T110000Z
SUMMARY:Hypnobirthing
END:VEVENT
END:VCALENDAR
