BEGIN:VCALENDAR
VERSION:2.0
PRODID:-//Squarespace Inc/Squarespace 6//v6//EN
BEGIN:VEVENT
UID:5fac8db503633f0646617e7a@squarespace.com
DTSTAMP:20210104T040346Z
DTSTART:20210114T083000Z
DTEND:20210114T110000Z
SUMMARY:Hypnobirthing
END:VEVENT
END:VCALENDAR
