BEGIN:VCALENDAR
VERSION:2.0
PRODID:-//Squarespace Inc/Squarespace 6//v6//EN
BEGIN:VEVENT
UID:5fac8e4908f95b782af9dff2@squarespace.com
DTSTAMP:20210104T040136Z
DTSTART:20210218T083000Z
DTEND:20210218T110000Z
SUMMARY:Hypnobirthing
END:VEVENT
END:VCALENDAR
