BEGIN:VCALENDAR
VERSION:2.0
PRODID:-//Squarespace Inc/Squarespace 6//v6//EN
BEGIN:VEVENT
UID:5f8e24b2f11ecf3c58d306c3@squarespace.com
DTSTAMP:20201019T234441Z
DTSTART:20201022T053000Z
DTEND:20201022T061000Z
SUMMARY:Family Yoga
END:VEVENT
END:VCALENDAR
