BEGIN:VCALENDAR
VERSION:2.0
PRODID:-//Squarespace Inc/Squarespace 6//v6//EN
BEGIN:VEVENT
UID:5f8e24f328b161254b2c9570@squarespace.com
DTSTAMP:20201020T000938Z
DTSTART:20201029T053000Z
DTEND:20201029T061000Z
SUMMARY:Family Yoga
END:VEVENT
END:VCALENDAR
