BEGIN:VCALENDAR
VERSION:2.0
PRODID:-//Squarespace Inc/Squarespace 6//v6//EN
BEGIN:VEVENT
UID:5fa08c1f8cf5f440cd0a550f@squarespace.com
DTSTAMP:20201102T224817Z
DTSTART:20201105T053000Z
DTEND:20201105T061000Z
SUMMARY:Family Yoga
END:VEVENT
END:VCALENDAR
