BEGIN:VCALENDAR
VERSION:2.0
PRODID:-//Squarespace Inc/Squarespace 6//v6//EN
BEGIN:VEVENT
UID:5f8e2540c9e1691d59d0f27d@squarespace.com
DTSTAMP:20201102T224938Z
DTSTART:20201119T053000Z
DTEND:20201119T061000Z
SUMMARY:Family Yoga
END:VEVENT
END:VCALENDAR
