BEGIN:VCALENDAR
VERSION:2.0
PRODID:-//Squarespace Inc/Squarespace 6//v6//EN
BEGIN:VEVENT
UID:5f8e25772eb7ad5e5ca6309e@squarespace.com
DTSTAMP:20201102T224958Z
DTSTART:20201126T053000Z
DTEND:20201126T061000Z
SUMMARY:Family Yoga
END:VEVENT
END:VCALENDAR
