BEGIN:VCALENDAR
VERSION:2.0
PRODID:-//Squarespace Inc/Squarespace 6//v6//EN
BEGIN:VEVENT
UID:5f8e26b81728ce53b9563efb@squarespace.com
DTSTAMP:20201019T235601Z
DTSTART:20201022T230000Z
DTEND:20201022T234000Z
SUMMARY:Explorer Beans - Confident Walkers to 2 Years Old 
END:VEVENT
END:VCALENDAR
