BEGIN:VCALENDAR
VERSION:2.0
PRODID:-//Squarespace Inc/Squarespace 6//v6//EN
BEGIN:VEVENT
UID:5f8e2e1290e61209aa9ec7ce@squarespace.com
DTSTAMP:20201020T002426Z
DTSTART:20201026T230000Z
DTEND:20201026T234000Z
SUMMARY:Explorer Beans - Confident Walkers to 2 Years Old
END:VEVENT
END:VCALENDAR
