BEGIN:VCALENDAR
VERSION:2.0
PRODID:-//Squarespace Inc/Squarespace 6//v6//EN
BEGIN:VEVENT
UID:5f8e2e8771ada320f5c98c0a@squarespace.com
DTSTAMP:20201020T002612Z
DTSTART:20201109T230000Z
DTEND:20201109T234000Z
SUMMARY:Explorer Beans - Confident Walkers to 2 Years Old
END:VEVENT
END:VCALENDAR
