BEGIN:VCALENDAR
VERSION:2.0
PRODID:-//Squarespace Inc/Squarespace 6//v6//EN
BEGIN:VEVENT
UID:5f8e2eacc9e1691d59d25466@squarespace.com
DTSTAMP:20201020T002648Z
DTSTART:20201116T230000Z
DTEND:20201116T234000Z
SUMMARY:Explorer Beans - Confident Walkers to 2 Years Old
END:VEVENT
END:VCALENDAR
