BEGIN:VCALENDAR
VERSION:2.0
PRODID:-//Squarespace Inc/Squarespace 6//v6//EN
BEGIN:VEVENT
UID:5f8e2ed0fba7b2486486cf80@squarespace.com
DTSTAMP:20201112T230136Z
DTSTART:20201124T010000Z
DTEND:20201124T014000Z
SUMMARY:Explorer Beans - Confident Walkers to 2 Years Old
END:VEVENT
END:VCALENDAR
