BEGIN:VCALENDAR
VERSION:2.0
PRODID:-//Squarespace Inc/Squarespace 6//v6//EN
BEGIN:VEVENT
UID:5f8e2efeb147026218f91cf9@squarespace.com
DTSTAMP:20201112T230429Z
DTSTART:20201201T010000Z
DTEND:20201201T014000Z
SUMMARY:Explorer Beans - Confident Walkers to 2 Years Old
END:VEVENT
END:VCALENDAR
