BEGIN:VCALENDAR
VERSION:2.0
PRODID:-//Squarespace Inc/Squarespace 6//v6//EN
BEGIN:VEVENT
UID:5fac87229a1aef48f6fc8437@squarespace.com
DTSTAMP:20201112T230657Z
DTSTART:20201207T010000Z
DTEND:20201208T014000Z
SUMMARY:Explorer Beans - Confident Walkers to 2 Years Old
END:VEVENT
END:VCALENDAR
