BEGIN:VCALENDAR
VERSION:2.0
PRODID:-//Squarespace Inc/Squarespace 6//v6//EN
BEGIN:VEVENT
UID:5f8e2f7490e61209aa9ef92f@squarespace.com
DTSTAMP:20201213T091139Z
DTSTART:20201214T230000Z
DTEND:20201214T234000Z
SUMMARY:Explorer Beans - Confident Walkers to 2 Years Old
END:VEVENT
END:VCALENDAR
