BEGIN:VCALENDAR
VERSION:2.0
PRODID:-//Squarespace Inc/Squarespace 6//v6//EN
BEGIN:VEVENT
UID:5fac87b84aff1f2f85cb180a@squarespace.com
DTSTAMP:20201112T231026Z
DTSTART:20201214T010000Z
DTEND:20201215T014000Z
SUMMARY:Explorer Beans - Confident Walkers to 2 Years Old
END:VEVENT
END:VCALENDAR
