BEGIN:VCALENDAR
VERSION:2.0
PRODID:-//Squarespace Inc/Squarespace 6//v6//EN
BEGIN:VEVENT
UID:5f8e2f9de1de6b06704e9259@squarespace.com
DTSTAMP:20201020T003131Z
DTSTART:20201027T230000Z
DTEND:20201027T234000Z
SUMMARY:Explorer Beans - Confident Walkers to 2 Years Old
END:VEVENT
END:VCALENDAR
