BEGIN:VCALENDAR
VERSION:2.0
PRODID:-//Squarespace Inc/Squarespace 6//v6//EN
BEGIN:VEVENT
UID:5f8e302d7c83c57c9abd01d6@squarespace.com
DTSTAMP:20201020T003311Z
DTSTART:20201110T230000Z
DTEND:20201110T234000Z
SUMMARY:Explorer Beans - Confident Walkers to 2 Years Old
END:VEVENT
END:VCALENDAR
