BEGIN:VCALENDAR
VERSION:2.0
PRODID:-//Squarespace Inc/Squarespace 6//v6//EN
BEGIN:VEVENT
UID:5f8e308407bb717995697123@squarespace.com
DTSTAMP:20201112T230148Z
DTSTART:20201124T230000Z
DTEND:20201124T234000Z
SUMMARY:Explorer Beans - Confident Walkers to 2 Years Old
END:VEVENT
END:VCALENDAR
