BEGIN:VCALENDAR
VERSION:2.0
PRODID:-//Squarespace Inc/Squarespace 6//v6//EN
BEGIN:VEVENT
UID:5f8e30ed90e61209aa9f3b31@squarespace.com
DTSTAMP:20201112T231119Z
DTSTART:20201215T230000Z
DTEND:20201215T234000Z
SUMMARY:Explorer Beans - Confident Walkers to 2 Years Old
END:VEVENT
END:VCALENDAR
