BEGIN:VCALENDAR
VERSION:2.0
PRODID:-//Squarespace Inc/Squarespace 6//v6//EN
BEGIN:VEVENT
UID:5fac85fef8f3f14190451ad2@squarespace.com
DTSTAMP:20201112T230106Z
DTSTART:20201123T010000Z
DTEND:20201124T014000Z
SUMMARY:Explorer Beans - Confident Walkers to 2 Years Old
END:VEVENT
END:VCALENDAR
