BEGIN:VCALENDAR
VERSION:2.0
PRODID:-//Squarespace Inc/Squarespace 6//v6//EN
BEGIN:VEVENT
UID:5f8e27b528b161254b2cf6ce@squarespace.com
DTSTAMP:20201019T235739Z
DTSTART:20201029T230000Z
DTEND:20201029T234000Z
SUMMARY:Explorer Beans - Confident Walkers to 2 Years Old
END:VEVENT
END:VCALENDAR
