BEGIN:VCALENDAR
VERSION:2.0
PRODID:-//Squarespace Inc/Squarespace 6//v6//EN
BEGIN:VEVENT
UID:5f8e28a9d002dc32f3b22d9e@squarespace.com
DTSTAMP:20201112T230249Z
DTSTART:20201126T230000Z
DTEND:20201126T234000Z
SUMMARY:Explorer Beans - Confident Walkers to 2 Years Old
END:VEVENT
END:VCALENDAR
