BEGIN:VCALENDAR
VERSION:2.0
PRODID:-//Squarespace Inc/Squarespace 6//v6//EN
BEGIN:VEVENT
UID:5f8e28e65b50e158842b2fa0@squarespace.com
DTSTAMP:20201112T230850Z
DTSTART:20201210T230000Z
DTEND:20201210T234000Z
SUMMARY:Explorer Beans - Confident Walkers to 2 Years Old (Copy)
END:VEVENT
END:VCALENDAR
