BEGIN:VCALENDAR
VERSION:2.0
PRODID:-//Squarespace Inc/Squarespace 6//v6//EN
BEGIN:VEVENT
UID:5f8e2930965c85490b172d98@squarespace.com
DTSTAMP:20201112T231357Z
DTSTART:20201217T230000Z
DTEND:20201217T234000Z
SUMMARY:Explorer Beans - Confident Walkers to 2 Years Old
END:VEVENT
END:VCALENDAR
