BEGIN:VCALENDAR
VERSION:2.0
PRODID:-//Squarespace Inc/Squarespace 6//v6//EN
BEGIN:VEVENT
UID:5ff298e5f218a25ea686b2f9@squarespace.com
DTSTAMP:20210104T042657Z
DTSTART:20210112T230000Z
DTEND:20210112T234000Z
SUMMARY:Explorer Beans - Confident Walkers to 2 Years Old
END:VEVENT
END:VCALENDAR
