BEGIN:VCALENDAR
VERSION:2.0
PRODID:-//Squarespace Inc/Squarespace 6//v6//EN
BEGIN:VEVENT
UID:5ff2996ce293bc1fe29153a7@squarespace.com
DTSTAMP:20210104T042854Z
DTSTART:20210114T230000Z
DTEND:20210114T234000Z
SUMMARY:Explorer Beans - Confident Walkers to 2 Years Old
END:VEVENT
END:VCALENDAR
