BEGIN:VCALENDAR
VERSION:2.0
PRODID:-//Squarespace Inc/Squarespace 6//v6//EN
BEGIN:VEVENT
UID:5ff7cd35a1ea8237a275131d@squarespace.com
DTSTAMP:20210108T031253Z
DTSTART:20210121T230000Z
DTEND:20210121T234000Z
SUMMARY:Explorer Beans - Confident Walkers to 2 Years Old
END:VEVENT
END:VCALENDAR
