BEGIN:VCALENDAR
VERSION:2.0
PRODID:-//Squarespace Inc/Squarespace 6//v6//EN
BEGIN:VEVENT
UID:5ff7cede9460845682393d44@squarespace.com
DTSTAMP:20210108T031814Z
DTSTART:20210128T230000Z
DTEND:20210128T234000Z
SUMMARY:Explorer Beans - Confident Walkers to 2 Years Old
END:VEVENT
END:VCALENDAR
