BEGIN:VCALENDAR
VERSION:2.0
PRODID:-//Squarespace Inc/Squarespace 6//v6//EN
BEGIN:VEVENT
UID:60127d2aa544e45997074305@squarespace.com
DTSTAMP:20210128T090058Z
DTSTART:20210204T230000Z
DTEND:20210204T234000Z
SUMMARY:Explorer Beans - Confident Walkers to 2 Years Old
END:VEVENT
END:VCALENDAR
