BEGIN:VCALENDAR
VERSION:2.0
PRODID:-//Squarespace Inc/Squarespace 6//v6//EN
BEGIN:VEVENT
UID:60127d510c82b068d7494be5@squarespace.com
DTSTAMP:20210128T090137Z
DTSTART:20210211T230000Z
DTEND:20210211T234000Z
SUMMARY:Explorer Beans - Confident Walkers to 2 Years Old
END:VEVENT
END:VCALENDAR
