BEGIN:VCALENDAR
VERSION:2.0
PRODID:-//Squarespace Inc/Squarespace 6//v6//EN
BEGIN:VEVENT
UID:60127d76e8a42f08c99ef993@squarespace.com
DTSTAMP:20210128T090210Z
DTSTART:20210218T230000Z
DTEND:20210218T234000Z
SUMMARY:Explorer Beans - Confident Walkers to 2 Years Old
END:VEVENT
END:VCALENDAR
