BEGIN:VCALENDAR
VERSION:2.0
PRODID:-//Squarespace Inc/Squarespace 6//v6//EN
BEGIN:VEVENT
UID:5ff7ccb39c199e23745eb13b@squarespace.com
DTSTAMP:20210108T030856Z
DTSTART:20210119T230000Z
DTEND:20210119T234000Z
SUMMARY:Explorer Beans - Confident Walkers to 2 Years Old
END:VEVENT
END:VCALENDAR
