BEGIN:VCALENDAR
VERSION:2.0
PRODID:-//Squarespace Inc/Squarespace 6//v6//EN
BEGIN:VEVENT
UID:5ff7ce269460845682392008@squarespace.com
DTSTAMP:20210108T031514Z
DTSTART:20210126T230000Z
DTEND:20210126T234000Z
SUMMARY:Explorer Beans - Confident Walkers to 2 Years Old
END:VEVENT
END:VCALENDAR
