BEGIN:VCALENDAR
VERSION:2.0
PRODID:-//Squarespace Inc/Squarespace 6//v6//EN
BEGIN:VEVENT
UID:5f8e28e9580e070ad1fb9c53@squarespace.com
DTSTAMP:20201112T230542Z
DTSTART:20201203T230000Z
DTEND:20201203T234000Z
SUMMARY:Explorer Beans - Confident Walkers to 2 Years Old 
END:VEVENT
END:VCALENDAR
