BEGIN:VCALENDAR
VERSION:2.0
PRODID:-//Squarespace Inc/Squarespace 6//v6//EN
BEGIN:VEVENT
UID:5f8e31c81728ce53b95801ca@squarespace.com
DTSTAMP:20201020T004125Z
DTSTART:20201027T000000Z
DTEND:20201027T004000Z
SUMMARY:Discovery Beans - Sitting Babies to Walkers
END:VEVENT
END:VCALENDAR
