BEGIN:VCALENDAR
VERSION:2.0
PRODID:-//Squarespace Inc/Squarespace 6//v6//EN
BEGIN:VEVENT
UID:5f8e332842ce784d0cfa103b@squarespace.com
DTSTAMP:20201020T004624Z
DTSTART:20201029T000000Z
DTEND:20201029T004000Z
SUMMARY:Discovery Beans - Sitting Babies to Walkers
END:VEVENT
END:VCALENDAR
